BEGIN:VCALENDAR
VERSION:2.0
PRODID:-//Land O&#039;Lakes Quilt Guild - ECPv6.15.18//NONSGML v1.0//EN
CALSCALE:GREGORIAN
METHOD:PUBLISH
X-WR-CALNAME:Land O&#039;Lakes Quilt Guild
X-ORIGINAL-URL:https://landolakesquiltguild.com
X-WR-CALDESC:Events for Land O&#039;Lakes Quilt Guild
REFRESH-INTERVAL;VALUE=DURATION:PT1H
X-Robots-Tag:noindex
X-PUBLISHED-TTL:PT1H
BEGIN:VTIMEZONE
TZID:America/Chicago
BEGIN:DAYLIGHT
TZOFFSETFROM:-0600
TZOFFSETTO:-0500
TZNAME:CDT
DTSTART:20250309T080000
END:DAYLIGHT
BEGIN:STANDARD
TZOFFSETFROM:-0500
TZOFFSETTO:-0600
TZNAME:CST
DTSTART:20251102T070000
END:STANDARD
BEGIN:DAYLIGHT
TZOFFSETFROM:-0600
TZOFFSETTO:-0500
TZNAME:CDT
DTSTART:20260308T080000
END:DAYLIGHT
BEGIN:STANDARD
TZOFFSETFROM:-0500
TZOFFSETTO:-0600
TZNAME:CST
DTSTART:20261101T070000
END:STANDARD
BEGIN:DAYLIGHT
TZOFFSETFROM:-0600
TZOFFSETTO:-0500
TZNAME:CDT
DTSTART:20270314T080000
END:DAYLIGHT
BEGIN:STANDARD
TZOFFSETFROM:-0500
TZOFFSETTO:-0600
TZNAME:CST
DTSTART:20271107T070000
END:STANDARD
END:VTIMEZONE
BEGIN:VEVENT
DTSTART;TZID=America/Chicago:20260425T100000
DTEND;TZID=America/Chicago:20260425T170000
DTSTAMP:20260425T094652
CREATED:20260311T164816Z
LAST-MODIFIED:20260324T222247Z
UID:5784-1777111200-1777136400@landolakesquiltguild.com
SUMMARY:Colorpalooza: A Celebration of Spring in Old Town Lewisville
DESCRIPTION:Colorpalooza: A Celebration of Spring in Old Town Lewisville. Showcasing the rich cultural\, artistic\, and eco-friendly spirit of Lewisville! Attendees are invited to experience a day of creativity\, education\, art activities\, and displays in Old Town Lewisville\, Wayne Ferguson Plaza.\nStop by our booth where adults and kids can create a “quilt block” using scraps of colorful fabrics.
URL:https://landolakesquiltguild.com/events/colorpalooza-a-celebration-of-spring-in-old-town-lewisville/
LOCATION:Wayne Ferguson Plaza\, 150 Church St\, Lewisville\, Texas\, 75057
CATEGORIES:Annual Events
ATTACH;FMTTYPE=image/jpeg:https://landolakesquiltguild.com/wp-content/uploads/2026/03/Screenshot_20260311-1133292.jpg
END:VEVENT
END:VCALENDAR