BEGIN:VCALENDAR
VERSION:2.0
PRODID:-//Land O&#039;Lakes Quilt Guild - ECPv6.15.18//NONSGML v1.0//EN
CALSCALE:GREGORIAN
METHOD:PUBLISH
X-ORIGINAL-URL:https://landolakesquiltguild.com
X-WR-CALDESC:Events for Land O&#039;Lakes Quilt Guild
REFRESH-INTERVAL;VALUE=DURATION:PT1H
X-Robots-Tag:noindex
X-PUBLISHED-TTL:PT1H
BEGIN:VTIMEZONE
TZID:America/Chicago
BEGIN:DAYLIGHT
TZOFFSETFROM:-0600
TZOFFSETTO:-0500
TZNAME:CDT
DTSTART:20250309T080000
END:DAYLIGHT
BEGIN:STANDARD
TZOFFSETFROM:-0500
TZOFFSETTO:-0600
TZNAME:CST
DTSTART:20251102T070000
END:STANDARD
BEGIN:DAYLIGHT
TZOFFSETFROM:-0600
TZOFFSETTO:-0500
TZNAME:CDT
DTSTART:20260308T080000
END:DAYLIGHT
BEGIN:STANDARD
TZOFFSETFROM:-0500
TZOFFSETTO:-0600
TZNAME:CST
DTSTART:20261101T070000
END:STANDARD
BEGIN:DAYLIGHT
TZOFFSETFROM:-0600
TZOFFSETTO:-0500
TZNAME:CDT
DTSTART:20270314T080000
END:DAYLIGHT
BEGIN:STANDARD
TZOFFSETFROM:-0500
TZOFFSETTO:-0600
TZNAME:CST
DTSTART:20271107T070000
END:STANDARD
END:VTIMEZONE
BEGIN:VEVENT
DTSTART;TZID=America/Chicago:20260425T100000
DTEND;TZID=America/Chicago:20260425T170000
DTSTAMP:20260425T094837
CREATED:20260311T164816Z
LAST-MODIFIED:20260324T222247Z
UID:5784-1777111200-1777136400@landolakesquiltguild.com
SUMMARY:Colorpalooza: A Celebration of Spring in Old Town Lewisville
DESCRIPTION:Colorpalooza: A Celebration of Spring in Old Town Lewisville. Showcasing the rich cultural\, artistic\, and eco-friendly spirit of Lewisville! Attendees are invited to experience a day of creativity\, education\, art activities\, and displays in Old Town Lewisville\, Wayne Ferguson Plaza.\nStop by our booth where adults and kids can create a “quilt block” using scraps of colorful fabrics.
URL:https://landolakesquiltguild.com/events/colorpalooza-a-celebration-of-spring-in-old-town-lewisville/
LOCATION:Wayne Ferguson Plaza\, 150 Church St\, Lewisville\, Texas\, 75057
CATEGORIES:Annual Events
ATTACH;FMTTYPE=image/jpeg:https://landolakesquiltguild.com/wp-content/uploads/2026/03/Screenshot_20260311-1133292.jpg
END:VEVENT
BEGIN:VEVENT
DTSTART;TZID=America/Chicago:20260511T190000
DTEND;TZID=America/Chicago:20260511T210000
DTSTAMP:20260425T094837
CREATED:20251222T220634Z
LAST-MODIFIED:20260311T161213Z
UID:5581-1778526000-1778533200@landolakesquiltguild.com
SUMMARY:2026 May Meeting - Christina West & Kacey Crutchfield
DESCRIPTION:Trunk show with Christina West and Kacey Crutchfield\, co-authors of The Quilting Book: A Step-By-Step Guide to Patchwork and Quilting published by DK (Dorling Kindersley). It is part of the “Ultimate Craft Guides” series.
URL:https://landolakesquiltguild.com/events/may-meeting-kindred-quilt-co/
LOCATION:Valley Ridge Church\, The First Baptist Church of Lewisville\, 1251 Valley Ridge Blvd\, Lewisville\, TX\, 75077\, United States
CATEGORIES:Monthly Meetings
ATTACH;FMTTYPE=image/jpeg:https://landolakesquiltguild.com/wp-content/uploads/2026/03/Christina-West-Kacey-Chruchfield2.jpg
END:VEVENT
BEGIN:VEVENT
DTSTART;TZID=America/Chicago:20260608T190000
DTEND;TZID=America/Chicago:20260608T210000
DTSTAMP:20260425T094837
CREATED:20251222T221423Z
LAST-MODIFIED:20260324T153842Z
UID:5588-1780945200-1780952400@landolakesquiltguild.com
SUMMARY:2026 June Meeting - Connie Keller\, APQS Texas Longarm Studio
DESCRIPTION:Connie Keller\, owner of APQS Texas Longarm Studio. Longarm & Legacy Trunk Show.\nConnie has been quilting since she was 11 years old. She has a passion for teaching\, providing service\, and sharing her love of quilting with the world.
URL:https://landolakesquiltguild.com/events/2026-june-meeting-connie-keller/
LOCATION:Valley Ridge Church\, The First Baptist Church of Lewisville\, 1251 Valley Ridge Blvd\, Lewisville\, TX\, 75077\, United States
CATEGORIES:Monthly Meetings
ATTACH;FMTTYPE=image/jpeg:https://landolakesquiltguild.com/wp-content/uploads/2025/12/Connie-Keller-1.jpg
END:VEVENT
BEGIN:VEVENT
DTSTART;TZID=America/Chicago:20260713T190000
DTEND;TZID=America/Chicago:20260713T210000
DTSTAMP:20260425T094837
CREATED:20251222T221711Z
LAST-MODIFIED:20260324T154014Z
UID:5590-1783969200-1783976400@landolakesquiltguild.com
SUMMARY:2026 July Meeting - Wishes & Stitches 41st Guild Birthday Sewcial
DESCRIPTION:Wishes & Stitches\nJoin us as we celebrate 41 years as a Guild!
URL:https://landolakesquiltguild.com/events/2026-july-meeting-stitches-wishes-41st-guild-birthday-sewcial/
LOCATION:Valley Ridge Church\, The First Baptist Church of Lewisville\, 1251 Valley Ridge Blvd\, Lewisville\, TX\, 75077\, United States
CATEGORIES:Monthly Meetings
ATTACH;FMTTYPE=image/jpeg:https://landolakesquiltguild.com/wp-content/uploads/2025/12/PXL_20250715_0012022081.jpg
END:VEVENT
BEGIN:VEVENT
DTSTART;TZID=America/Chicago:20260810T190000
DTEND;TZID=America/Chicago:20260810T210000
DTSTAMP:20260425T094837
CREATED:20251222T221918Z
LAST-MODIFIED:20260324T154519Z
UID:5592-1786388400-1786395600@landolakesquiltguild.com
SUMMARY:2026 August Meeting - Waves of Wisdom
DESCRIPTION:Waves of Wisdom\nFavorite Tips\, Tools & Techniques from guild members!
URL:https://landolakesquiltguild.com/events/2026-august-meeting-waves-of-wisdom/
LOCATION:Valley Ridge Church\, The First Baptist Church of Lewisville\, 1251 Valley Ridge Blvd\, Lewisville\, TX\, 75077\, United States
CATEGORIES:Monthly Meetings
ATTACH;FMTTYPE=image/png:https://landolakesquiltguild.com/wp-content/uploads/2025/12/2026-August-Favorite-Tips-Tools-and-Techniques.png
END:VEVENT
BEGIN:VEVENT
DTSTART;TZID=America/Chicago:20260914T190000
DTEND;TZID=America/Chicago:20260914T210000
DTSTAMP:20260425T094837
CREATED:20251222T222104Z
LAST-MODIFIED:20260324T154853Z
UID:5594-1789412400-1789419600@landolakesquiltguild.com
SUMMARY:2026 September Meeting - Make It Modern Trunk Show
DESCRIPTION:Make It Modern Trunk Show by Anne-Marie Jennings\, Past President
URL:https://landolakesquiltguild.com/events/2026-september-meeting-make-it-modern/
LOCATION:Valley Ridge Church\, The First Baptist Church of Lewisville\, 1251 Valley Ridge Blvd\, Lewisville\, TX\, 75077\, United States
CATEGORIES:Monthly Meetings
END:VEVENT
BEGIN:VEVENT
DTSTART;TZID=America/Chicago:20261012T190000
DTEND;TZID=America/Chicago:20261012T210000
DTSTAMP:20260425T094837
CREATED:20251222T222307Z
LAST-MODIFIED:20260324T155553Z
UID:5596-1791831600-1791838800@landolakesquiltguild.com
SUMMARY:2026 October Meeting - Fiber Art Quilts\, Elizabeth Budd
DESCRIPTION:Fiber Art Quilts. Trunk Show with Elizabeth Budd\, quilt artist.
URL:https://landolakesquiltguild.com/events/2026-october-meeting-elizabeth-budd/
LOCATION:Valley Ridge Church\, The First Baptist Church of Lewisville\, 1251 Valley Ridge Blvd\, Lewisville\, TX\, 75077\, United States
CATEGORIES:Monthly Meetings
ATTACH;FMTTYPE=image/jpeg:https://landolakesquiltguild.com/wp-content/uploads/2025/12/Elizabeth-Budd-winner.jpg
END:VEVENT
BEGIN:VEVENT
DTSTART;TZID=America/Chicago:20261109T190000
DTEND;TZID=America/Chicago:20261109T210000
DTSTAMP:20260425T094837
CREATED:20251222T222440Z
LAST-MODIFIED:20260324T161601Z
UID:5598-1794250800-1794258000@landolakesquiltguild.com
SUMMARY:2026 November Meeting - Stitching with Wool\, guest Kerin Zubriggen
DESCRIPTION:2026 November Meeting – Stitching with Wool\, Kerin Zubriggen
URL:https://landolakesquiltguild.com/events/2026-november-meeting-stitching-wool/
LOCATION:Valley Ridge Church\, The First Baptist Church of Lewisville\, 1251 Valley Ridge Blvd\, Lewisville\, TX\, 75077\, United States
CATEGORIES:Monthly Meetings
ATTACH;FMTTYPE=image/jpeg:https://landolakesquiltguild.com/wp-content/uploads/2025/12/wool-image-for-Zubriggen-November.jpg
END:VEVENT
BEGIN:VEVENT
DTSTART;TZID=America/Chicago:20261214T190000
DTEND;TZID=America/Chicago:20261214T210000
DTSTAMP:20260425T094837
CREATED:20251222T222843Z
LAST-MODIFIED:20260324T161904Z
UID:5600-1797274800-1797282000@landolakesquiltguild.com
SUMMARY:2026 December Meeting - Frost & Flannel Holiday Gathering
DESCRIPTION:Frost & Flannel Holiday Gathering
URL:https://landolakesquiltguild.com/events/2026-december-meeting-frost-flannel/
LOCATION:Valley Ridge Church\, The First Baptist Church of Lewisville\, 1251 Valley Ridge Blvd\, Lewisville\, TX\, 75077\, United States
CATEGORIES:Monthly Meetings
ATTACH;FMTTYPE=image/png:https://landolakesquiltguild.com/wp-content/uploads/2025/12/2026-December_Frost-Flannel-winter-celebration.png
END:VEVENT
END:VCALENDAR