BEGIN:VCALENDAR
VERSION:2.0
PRODID:-//Land O&#039;Lakes Quilt Guild - ECPv6.15.18//NONSGML v1.0//EN
CALSCALE:GREGORIAN
METHOD:PUBLISH
X-WR-CALNAME:Land O&#039;Lakes Quilt Guild
X-ORIGINAL-URL:https://landolakesquiltguild.com
X-WR-CALDESC:Events for Land O&#039;Lakes Quilt Guild
REFRESH-INTERVAL;VALUE=DURATION:PT1H
X-Robots-Tag:noindex
X-PUBLISHED-TTL:PT1H
BEGIN:VTIMEZONE
TZID:America/Chicago
BEGIN:DAYLIGHT
TZOFFSETFROM:-0600
TZOFFSETTO:-0500
TZNAME:CDT
DTSTART:20250309T080000
END:DAYLIGHT
BEGIN:STANDARD
TZOFFSETFROM:-0500
TZOFFSETTO:-0600
TZNAME:CST
DTSTART:20251102T070000
END:STANDARD
BEGIN:DAYLIGHT
TZOFFSETFROM:-0600
TZOFFSETTO:-0500
TZNAME:CDT
DTSTART:20260308T080000
END:DAYLIGHT
BEGIN:STANDARD
TZOFFSETFROM:-0500
TZOFFSETTO:-0600
TZNAME:CST
DTSTART:20261101T070000
END:STANDARD
BEGIN:DAYLIGHT
TZOFFSETFROM:-0600
TZOFFSETTO:-0500
TZNAME:CDT
DTSTART:20270314T080000
END:DAYLIGHT
BEGIN:STANDARD
TZOFFSETFROM:-0500
TZOFFSETTO:-0600
TZNAME:CST
DTSTART:20271107T070000
END:STANDARD
END:VTIMEZONE
BEGIN:VEVENT
DTSTART;TZID=America/Chicago:20260209T190000
DTEND;TZID=America/Chicago:20260209T210000
DTSTAMP:20260425T142535
CREATED:20251222T214619Z
LAST-MODIFIED:20260107T211357Z
UID:5573-1770663600-1770670800@landolakesquiltguild.com
SUMMARY:2026 February Meeting - Redwork trunk show by member Connie Litfin plus Friendship Heart Exchange
DESCRIPTION:Our February speaker is member Connie Litfin with her redwork collection trunk show. We will also exchange Friendship Hearts. Bring cookies or similar finger food snacks. 
URL:https://landolakesquiltguild.com/events/february-meeting-redwork-trunk-show-by-member-connie-litfin-plus-friendship-heart-exchange/
LOCATION:Valley Ridge Church\, The First Baptist Church of Lewisville\, 1251 Valley Ridge Blvd\, Lewisville\, TX\, 75077\, United States
CATEGORIES:Monthly Meetings
ATTACH;FMTTYPE=image/jpeg:https://landolakesquiltguild.com/wp-content/uploads/2025/02/PXL_20250211_010057660-1.jpg
END:VEVENT
END:VCALENDAR