BEGIN:VCALENDAR
VERSION:2.0
PRODID:-//Land O&#039;Lakes Quilt Guild - ECPv6.15.18//NONSGML v1.0//EN
CALSCALE:GREGORIAN
METHOD:PUBLISH
X-ORIGINAL-URL:https://landolakesquiltguild.com
X-WR-CALDESC:Events for Land O&#039;Lakes Quilt Guild
REFRESH-INTERVAL;VALUE=DURATION:PT1H
X-Robots-Tag:noindex
X-PUBLISHED-TTL:PT1H
BEGIN:VTIMEZONE
TZID:America/Chicago
BEGIN:DAYLIGHT
TZOFFSETFROM:-0600
TZOFFSETTO:-0500
TZNAME:CDT
DTSTART:20240310T080000
END:DAYLIGHT
BEGIN:STANDARD
TZOFFSETFROM:-0500
TZOFFSETTO:-0600
TZNAME:CST
DTSTART:20241103T070000
END:STANDARD
BEGIN:DAYLIGHT
TZOFFSETFROM:-0600
TZOFFSETTO:-0500
TZNAME:CDT
DTSTART:20250309T080000
END:DAYLIGHT
BEGIN:STANDARD
TZOFFSETFROM:-0500
TZOFFSETTO:-0600
TZNAME:CST
DTSTART:20251102T070000
END:STANDARD
BEGIN:DAYLIGHT
TZOFFSETFROM:-0600
TZOFFSETTO:-0500
TZNAME:CDT
DTSTART:20260308T080000
END:DAYLIGHT
BEGIN:STANDARD
TZOFFSETFROM:-0500
TZOFFSETTO:-0600
TZNAME:CST
DTSTART:20261101T070000
END:STANDARD
END:VTIMEZONE
BEGIN:VEVENT
DTSTART;TZID=America/Chicago:20251110T190000
DTEND;TZID=America/Chicago:20251110T210000
DTSTAMP:20260425T192025
CREATED:20251106T154753Z
LAST-MODIFIED:20251106T155050Z
UID:5503-1762801200-1762808400@landolakesquiltguild.com
SUMMARY:2025 November Meeting
DESCRIPTION:Our November speaker is Sandra Archer. She was with us in August and she has MORE to show us! \nShe’ll bring more antique butterfly quilts\, baby quilts and quilts she has made.
URL:https://landolakesquiltguild.com/events/2025-november-meeting/
LOCATION:Valley Ridge Church\, The First Baptist Church of Lewisville\, 1251 Valley Ridge Blvd\, Lewisville\, TX\, 75077\, United States
CATEGORIES:Monthly Meetings
END:VEVENT
END:VCALENDAR