BEGIN:VCALENDAR
VERSION:2.0
PRODID:-//Land O&#039;Lakes Quilt Guild - ECPv6.15.18//NONSGML v1.0//EN
CALSCALE:GREGORIAN
METHOD:PUBLISH
X-WR-CALNAME:Land O&#039;Lakes Quilt Guild
X-ORIGINAL-URL:https://landolakesquiltguild.com
X-WR-CALDESC:Events for Land O&#039;Lakes Quilt Guild
REFRESH-INTERVAL;VALUE=DURATION:PT1H
X-Robots-Tag:noindex
X-PUBLISHED-TTL:PT1H
BEGIN:VTIMEZONE
TZID:America/Chicago
BEGIN:DAYLIGHT
TZOFFSETFROM:-0600
TZOFFSETTO:-0500
TZNAME:CDT
DTSTART:20240310T080000
END:DAYLIGHT
BEGIN:STANDARD
TZOFFSETFROM:-0500
TZOFFSETTO:-0600
TZNAME:CST
DTSTART:20241103T070000
END:STANDARD
BEGIN:DAYLIGHT
TZOFFSETFROM:-0600
TZOFFSETTO:-0500
TZNAME:CDT
DTSTART:20250309T080000
END:DAYLIGHT
BEGIN:STANDARD
TZOFFSETFROM:-0500
TZOFFSETTO:-0600
TZNAME:CST
DTSTART:20251102T070000
END:STANDARD
BEGIN:DAYLIGHT
TZOFFSETFROM:-0600
TZOFFSETTO:-0500
TZNAME:CDT
DTSTART:20260308T080000
END:DAYLIGHT
BEGIN:STANDARD
TZOFFSETFROM:-0500
TZOFFSETTO:-0600
TZNAME:CST
DTSTART:20261101T070000
END:STANDARD
END:VTIMEZONE
BEGIN:VEVENT
DTSTART;TZID=America/Chicago:20250920T083000
DTEND;TZID=America/Chicago:20250920T133000
DTSTAMP:20260425T224913
CREATED:20250702T224445Z
LAST-MODIFIED:20250702T224914Z
UID:5480-1758357000-1758375000@landolakesquiltguild.com
SUMMARY:Fundraiser Sale Quilts Galore
DESCRIPTION:Our Annual Fundraiser Quilt Sale is Saturday\, September 20th 2025. Come support us at the Lamb of God Lutheran Church Artisan Craft Fair in Flower Mound! \nLots of quilts made by our members\, at great prices! Proceeds benefit our guild operating budget and community service projects.
URL:https://landolakesquiltguild.com/events/fundraiser-sale-quilts-galore/
LOCATION:Lamb of God Lutheran Church\, 1401 Cross Timbers\, Flower Mound\, TX\, 75028\, United States
CATEGORIES:Annual Events,Quilt Sale
ATTACH;FMTTYPE=image/jpeg:https://landolakesquiltguild.com/wp-content/uploads/2025/07/Artisan-Craft-Fair.jpg
END:VEVENT
END:VCALENDAR