BEGIN:VCALENDAR
VERSION:2.0
PRODID:-//Land O&#039;Lakes Quilt Guild - ECPv6.15.18//NONSGML v1.0//EN
CALSCALE:GREGORIAN
METHOD:PUBLISH
X-WR-CALNAME:Land O&#039;Lakes Quilt Guild
X-ORIGINAL-URL:https://landolakesquiltguild.com
X-WR-CALDESC:Events for Land O&#039;Lakes Quilt Guild
REFRESH-INTERVAL;VALUE=DURATION:PT1H
X-Robots-Tag:noindex
X-PUBLISHED-TTL:PT1H
BEGIN:VTIMEZONE
TZID:America/Chicago
BEGIN:DAYLIGHT
TZOFFSETFROM:-0600
TZOFFSETTO:-0500
TZNAME:CDT
DTSTART:20240310T080000
END:DAYLIGHT
BEGIN:STANDARD
TZOFFSETFROM:-0500
TZOFFSETTO:-0600
TZNAME:CST
DTSTART:20241103T070000
END:STANDARD
BEGIN:DAYLIGHT
TZOFFSETFROM:-0600
TZOFFSETTO:-0500
TZNAME:CDT
DTSTART:20250309T080000
END:DAYLIGHT
BEGIN:STANDARD
TZOFFSETFROM:-0500
TZOFFSETTO:-0600
TZNAME:CST
DTSTART:20251102T070000
END:STANDARD
BEGIN:DAYLIGHT
TZOFFSETFROM:-0600
TZOFFSETTO:-0500
TZNAME:CDT
DTSTART:20260308T080000
END:DAYLIGHT
BEGIN:STANDARD
TZOFFSETFROM:-0500
TZOFFSETTO:-0600
TZNAME:CST
DTSTART:20261101T070000
END:STANDARD
END:VTIMEZONE
BEGIN:VEVENT
DTSTART;TZID=America/Chicago:20250908T190000
DTEND;TZID=America/Chicago:20250908T210000
DTSTAMP:20260425T224920
CREATED:20250702T215737Z
LAST-MODIFIED:20250702T224729Z
UID:5471-1757358000-1757365200@landolakesquiltguild.com
SUMMARY:2025 September Meeting
DESCRIPTION:Our September 8th 2025 Meeting will feature Dorene Joyce\, Joy In The Journey- Get Your Creative Hat On! \n 
URL:https://landolakesquiltguild.com/events/2025-september-meeting/
LOCATION:Valley Ridge Church\, The First Baptist Church of Lewisville\, 1251 Valley Ridge Blvd\, Lewisville\, TX\, 75077\, United States
CATEGORIES:Monthly Meetings
END:VEVENT
END:VCALENDAR